BEGIN:VCALENDAR
VERSION:2.0
PRODID:-//St. Croix Valley Magazine - ECPv6.15.20//NONSGML v1.0//EN
CALSCALE:GREGORIAN
METHOD:PUBLISH
X-ORIGINAL-URL:https://stcroixvalleymag.com
X-WR-CALDESC:Events for St. Croix Valley Magazine
REFRESH-INTERVAL;VALUE=DURATION:PT1H
X-Robots-Tag:noindex
X-PUBLISHED-TTL:PT1H
BEGIN:VTIMEZONE
TZID:America/Chicago
BEGIN:DAYLIGHT
TZOFFSETFROM:-0600
TZOFFSETTO:-0500
TZNAME:CDT
DTSTART:20220313T080000
END:DAYLIGHT
BEGIN:STANDARD
TZOFFSETFROM:-0500
TZOFFSETTO:-0600
TZNAME:CST
DTSTART:20221106T070000
END:STANDARD
BEGIN:DAYLIGHT
TZOFFSETFROM:-0600
TZOFFSETTO:-0500
TZNAME:CDT
DTSTART:20230312T080000
END:DAYLIGHT
BEGIN:STANDARD
TZOFFSETFROM:-0500
TZOFFSETTO:-0600
TZNAME:CST
DTSTART:20231105T070000
END:STANDARD
BEGIN:DAYLIGHT
TZOFFSETFROM:-0600
TZOFFSETTO:-0500
TZNAME:CDT
DTSTART:20240310T080000
END:DAYLIGHT
BEGIN:STANDARD
TZOFFSETFROM:-0500
TZOFFSETTO:-0600
TZNAME:CST
DTSTART:20241103T070000
END:STANDARD
BEGIN:DAYLIGHT
TZOFFSETFROM:-0600
TZOFFSETTO:-0500
TZNAME:CDT
DTSTART:20250309T080000
END:DAYLIGHT
BEGIN:STANDARD
TZOFFSETFROM:-0500
TZOFFSETTO:-0600
TZNAME:CST
DTSTART:20251102T070000
END:STANDARD
BEGIN:DAYLIGHT
TZOFFSETFROM:-0600
TZOFFSETTO:-0500
TZNAME:CDT
DTSTART:20260308T080000
END:DAYLIGHT
BEGIN:STANDARD
TZOFFSETFROM:-0500
TZOFFSETTO:-0600
TZNAME:CST
DTSTART:20261101T070000
END:STANDARD
BEGIN:DAYLIGHT
TZOFFSETFROM:-0600
TZOFFSETTO:-0500
TZNAME:CDT
DTSTART:20270314T080000
END:DAYLIGHT
BEGIN:STANDARD
TZOFFSETFROM:-0500
TZOFFSETTO:-0600
TZNAME:CST
DTSTART:20271107T070000
END:STANDARD
END:VTIMEZONE
BEGIN:VEVENT
DTSTART;TZID=America/Chicago:20260214T180000
DTEND;TZID=America/Chicago:20260214T210000
DTSTAMP:20260425T135542
CREATED:20260112T200618Z
LAST-MODIFIED:20260112T200618Z
UID:10648-1771092000-1771102800@stcroixvalleymag.com
SUMMARY:Candlelight Night
DESCRIPTION:Six miles of winter trails will be illuminated by candles to guide you through an annual winter tradition at Wild River. This year the event is on Valentine’s Day. Skiers\, walkers and snowshoers are welcome to take to the trails. Please use event map to find the correct trail for your activity. Maps are available at the event. \nThe trail center and visitor center are good places to warm up. Marvel at an enormous bonfire and participate in activities throughout the park. There are no ski or snowshoe rentals. Trail Center area: event maps\, woodstoves\, refreshments\, walk to the enormous bonfire\, telescope. Visitor Center area: event maps\, live music\, woodstove\, biochar kiln demonstration\, refreshments. \nCanceled if windchill is below -15 F. Snowshoeing is welcome but not necessary. If there is very low or no snow\, we will use battery candles for a walking trail. \nEvent and activities are free\, but vehicles must display a $7 one-day or $35 year-round MN State Parks Vehicle Permit. Skiers (16 and older) need a $10 one-day or $25 one-year ski pass\, which is valid at 90 MN destinations. \nPermits available at the ranger station\, but save time at this busy event and buy one online ahead of time
URL:https://stcroixvalleymag.com/event/candlelight-night/
LOCATION:Wild River State Park\, 39797 Park Trail\, Center City\, MN\, 55012
CATEGORIES:Health & Wellness,Outdoors,Sports
ATTACH;FMTTYPE=image/jpeg:https://stcroixvalleymag.com/wp-content/uploads/2026/01/candlelight_event.jpg
ORGANIZER;CN="Wild River State Park":MAILTO:wildriver.statepark@state.mn.us
END:VEVENT
BEGIN:VEVENT
DTSTART;TZID=America/Chicago:20250920T080000
DTEND;TZID=America/Chicago:20250920T123000
DTSTAMP:20260425T135542
CREATED:20250731T173714Z
LAST-MODIFIED:20250731T173714Z
UID:9316-1758355200-1758371400@stcroixvalleymag.com
SUMMARY:Log Run Half Marathon
DESCRIPTION:The Log Run Half Marathon is the classic Stillwater area race going back to 1997 and is the final event of the season in the Run Stillwater race series. It includes a half- and 10-mile\, 10K and 5K.
URL:https://stcroixvalleymag.com/event/log-run-half-marathon/
LOCATION:Water Street Inn\, 101 Water St S\, Stillwater\, MN\, 55082
CATEGORIES:Health & Wellness,Outdoors,Sports
ATTACH;FMTTYPE=image/jpeg:https://stcroixvalleymag.com/wp-content/uploads/2025/07/log-run-web-banner-2025.jpg
END:VEVENT
BEGIN:VEVENT
DTSTART;TZID=America/Chicago:20250906T153000
DTEND;TZID=America/Chicago:20250906T180000
DTSTAMP:20260425T135542
CREATED:20250813T170517Z
LAST-MODIFIED:20250820T145309Z
UID:9409-1757172600-1757181600@stcroixvalleymag.com
SUMMARY:Synergy at Serenity Open House
DESCRIPTION:Tour the barn\, meet the team (including our herd)\, and be the first to experience Synergy at Serenity\, our new offering designed to bring connection\, reflection and healing in the presence of horses.
URL:https://stcroixvalleymag.com/event/synergy-at-serenity-open-house/
LOCATION:Serenity Farm\, 13850 30th St. N.\, Stillwater\, MN\, 55082
CATEGORIES:Community,Health & Wellness
ATTACH;FMTTYPE=image/jpeg:https://stcroixvalleymag.com/wp-content/uploads/2025/08/26c15f_dc7644b30965407a927a8c5c048f5bfamv2.jpg
ORGANIZER;CN="Horses and Humans Unite":MAILTO:info@horsesandhumansunite.com
END:VEVENT
BEGIN:VEVENT
DTSTART;TZID=America/Chicago:20250726T070000
DTEND;TZID=America/Chicago:20250726T070000
DTSTAMP:20260425T135542
CREATED:20250605T204818Z
LAST-MODIFIED:20250605T204818Z
UID:8850-1753513200-1753513200@stcroixvalleymag.com
SUMMARY:St. Croix Crossing Half Marathon
DESCRIPTION:Run or walk a half marathon\, starting in western Wisconsin and ending in downtown Stillwater.
URL:https://stcroixvalleymag.com/event/st-croix-crossing-half-marathon/
LOCATION:Lowell Park\, 201 Water St. N.\, Stillwater\, MN\, 55082
CATEGORIES:Health & Wellness,Sports
ATTACH;FMTTYPE=image/jpeg:https://stcroixvalleymag.com/wp-content/uploads/2025/06/st-croix-crossing-web-banner-2025.jpg
END:VEVENT
BEGIN:VEVENT
DTSTART;TZID=America/Chicago:20250621T140000
DTEND;TZID=America/Chicago:20250621T153000
DTSTAMP:20260425T135542
CREATED:20250527T193030Z
LAST-MODIFIED:20250527T193030Z
UID:8735-1750514400-1750519800@stcroixvalleymag.com
SUMMARY:Community Forest Walk: Ground\, Reflect\, Reconnect
DESCRIPTION:Take a walk with forest guide David M. Motzenbecker\, the founder of Motz Studios Forest Bathing Experiences \nWalk information: \nIn a world that feels increasingly loud and unstable\, we invite you to step into the quiet for a slow and intentional walk through the peaceful beauty of our 40-acre woods. \nOpen to all ages and backgrounds\, this event is designed to help you ground your nervous system\, find calm and rediscover your sense of place in nature—especially in times that feel uncertain or overwhelming. \nInspired by the practice of Forest Bathing\, we’ll take time to notice\, listen and be fully present. There will be guided moments and shared silence\, space for reflection and the simple power of community moving through the trees together. \nCome as you are. Leave a little more rooted. \nGood to note: \n\nWe have a porta potty on site.\nThis activity is not suitable for those who cannot walk or stand on unstable ground for long periods.\nIf the weather is unfavorable for a walk\, a refund will be given.
URL:https://stcroixvalleymag.com/event/community-forest-walk-ground-reflect-reconnect/
LOCATION:Two Bees & A Bud\, Flower Farm\, 1549 200th Ave.\, New Richmond\, WI\, 54017
CATEGORIES:Health & Wellness,Outdoors
ATTACH;FMTTYPE=image/jpeg:https://stcroixvalleymag.com/wp-content/uploads/2025/05/woods2_57b42857-4659-4bce-9485-fa25a6ace616_590x.jpg
END:VEVENT
BEGIN:VEVENT
DTSTART;TZID=America/Chicago:20250524T090000
DTEND;TZID=America/Chicago:20250524T120000
DTSTAMP:20260425T135542
CREATED:20250512T181454Z
LAST-MODIFIED:20250512T181454Z
UID:8530-1748077200-1748088000@stcroixvalleymag.com
SUMMARY:Free Community Workout: Memorial Day Murph
DESCRIPTION:Join us for a free community workout in honor of our nation’s veterans. All abilities and levels are welcome; modifications will be shared for each exercise. \n9 a.m. Adults only\n11 a.m. All ages
URL:https://stcroixvalleymag.com/event/free-community-workout-memorial-day-murph/
LOCATION:Altius Performance\, 14382 60th St. N.\, Stillwater\, MN\, 55082
CATEGORIES:Health & Wellness,Sports
ATTACH;FMTTYPE=image/jpeg:https://stcroixvalleymag.com/wp-content/uploads/2025/05/7fb672_ba44a7bbe17c499daf23d367ad5e4f23mv2.jpg
ORGANIZER;CN="Altius Performance":MAILTO:info@altiusmn.com
END:VEVENT
BEGIN:VEVENT
DTSTART;TZID=America/Chicago:20241129T090000
DTEND;TZID=America/Chicago:20241129T200000
DTSTAMP:20260425T135542
CREATED:20241107T220416Z
LAST-MODIFIED:20241107T220446Z
UID:6593-1732870800-1732910400@stcroixvalleymag.com
SUMMARY:Small Business Saturday at Waxing the City
DESCRIPTION:Join us November 29–December 1. Book your appointment during this event and receive deep discounts on Waxing services and retail on your current and January appointments. \nTerms and conditions: Only valid at Waxing the City Stillwater and Hudson. Discounts of 20 percent off on the highest service. Bring a friend and receive a $20 E-Credit when they receive an appointment.
URL:https://stcroixvalleymag.com/event/small-business-saturday-at-waxing-the-city/
LOCATION:Waxing the City\, 5951 Norwich Ave. N.\, Oak Park Heights\, MN\, 55082
CATEGORIES:Health & Wellness
ATTACH;FMTTYPE=image/png:https://stcroixvalleymag.com/wp-content/uploads/2024/11/waxing-the-city-logo.png
END:VEVENT
BEGIN:VEVENT
DTSTART;TZID=America/Chicago:20241012T100000
DTEND;TZID=America/Chicago:20241012T113000
DTSTAMP:20260425T135542
CREATED:20240923T154818Z
LAST-MODIFIED:20240923T154818Z
UID:6173-1728727200-1728732600@stcroixvalleymag.com
SUMMARY:5K Wild River Otter Trotter (Run or Walk) 2024
DESCRIPTION:Take a walk or run under the fall colors and along the St. Croix River at Wild River State Park\, and on one of the most beautiful 5K courses in the state! \nThis annual event will take you on both paved and unpaved surfaces. \n\nAwards will be given to the top finishers\, plus all those under 12 will receive a nice prize.\nRegistration is available on the day of the race\, but at a discounted price before October 1.\nT-shirts are available for sale when you preregister before October 1; some will be available after October 1 and on Race Day as supplies last.\n\nT-shirts cost $20 and are long sleeve\, made from moisture-wicking material.
URL:https://stcroixvalleymag.com/event/5k-wild-river-otter-trotter-run-or-walk-2024/
LOCATION:Wild River State Park\, 39797 Park Trail\, Center City\, MN\, 55012
CATEGORIES:Health & Wellness,Sports
ATTACH;FMTTYPE=image/jpeg:https://stcroixvalleymag.com/wp-content/uploads/2024/09/Start_2278opt.jpg
ORGANIZER;CN="Friends of Wild River State Park":MAILTO:info@friendsofwildriver.org
END:VEVENT
BEGIN:VEVENT
DTSTART;TZID=America/Chicago:20240615T180000
DTEND;TZID=America/Chicago:20240615T210000
DTSTAMP:20260425T135542
CREATED:20240328T155650Z
LAST-MODIFIED:20240328T155650Z
UID:5046-1718474400-1718485200@stcroixvalleymag.com
SUMMARY:Women Walking
DESCRIPTION:Come and help us celebrate the seasonal changes in the natural world. Vernal Equinox\, Summer Solstice\, Autumnal Equinox\, Winter Solstice\, each brings us to a new season\, a new place in our annual trip around the sun. We will gather together indoors to share easy\, yogic centering exercises and a brief conversation about our theme. We will then move out to the woods and prairies for walking meditations and experiences in the natural world. We will end our time together with light refreshments around the fire. \nLed by Lynette Anderson. Wear comfortable layers and be prepared for any weather.  Open to women over the age of 16.
URL:https://stcroixvalleymag.com/event/women-walking-4/
LOCATION:Savanna Center\, 795 Indian Trail\, Afton\, MN\, 55001
CATEGORIES:Community,Health & Wellness,Outdoors
ATTACH;FMTTYPE=image/jpeg:https://stcroixvalleymag.com/wp-content/uploads/2024/03/Web-Event-Template-scaled-1.jpg
ORGANIZER;CN="Belwin Conservancy":MAILTO:info@belwin.org
END:VEVENT
BEGIN:VEVENT
DTSTART;TZID=America/Chicago:20231216T180000
DTEND;TZID=America/Chicago:20231216T210000
DTSTAMP:20260425T135542
CREATED:20230929T172814Z
LAST-MODIFIED:20230929T172814Z
UID:3896-1702749600-1702760400@stcroixvalleymag.com
SUMMARY:Women Walking
DESCRIPTION:Come and help us celebrate the seasonal changes in the natural world. Vernal Equinox\, Summer Solstice\, Autumnal Equinox\, Winter Solstice\, each brings us to a new season\, a new place in our annual trip around the sun. We will gather together indoors to share easy\, yogic centering exercises and a brief conversation about our theme. We will then move out to the woods and prairies for walking meditations and experiences in the natural world. We will end our time together with light refreshments around the fire. \nLed by Lynette Anderson. Wear comfortable layers and be prepared for any weather.  Open to women over the age of 16. \nRegistration is required. To register\, go to belwin.org/events.
URL:https://stcroixvalleymag.com/event/women-walking-2/
LOCATION:Belwin Conservancy\, 1553 Stagecoach Trail S.\, Afton\, MN\, 55001
CATEGORIES:Health & Wellness,Sports
ATTACH;FMTTYPE=image/jpeg:https://stcroixvalleymag.com/wp-content/uploads/2023/09/Web-Event-Template-scaled-1.jpg
ORGANIZER;CN="Belwin Conservancy":MAILTO:info@belwin.org
END:VEVENT
END:VCALENDAR