BEGIN:VCALENDAR
VERSION:2.0
PRODID:-//St. Croix Valley Magazine - ECPv6.15.20//NONSGML v1.0//EN
CALSCALE:GREGORIAN
METHOD:PUBLISH
X-ORIGINAL-URL:https://stcroixvalleymag.com
X-WR-CALDESC:Events for St. Croix Valley Magazine
REFRESH-INTERVAL;VALUE=DURATION:PT1H
X-Robots-Tag:noindex
X-PUBLISHED-TTL:PT1H
BEGIN:VTIMEZONE
TZID:America/Chicago
BEGIN:DAYLIGHT
TZOFFSETFROM:-0600
TZOFFSETTO:-0500
TZNAME:CDT
DTSTART:20220313T080000
END:DAYLIGHT
BEGIN:STANDARD
TZOFFSETFROM:-0500
TZOFFSETTO:-0600
TZNAME:CST
DTSTART:20221106T070000
END:STANDARD
BEGIN:DAYLIGHT
TZOFFSETFROM:-0600
TZOFFSETTO:-0500
TZNAME:CDT
DTSTART:20230312T080000
END:DAYLIGHT
BEGIN:STANDARD
TZOFFSETFROM:-0500
TZOFFSETTO:-0600
TZNAME:CST
DTSTART:20231105T070000
END:STANDARD
BEGIN:DAYLIGHT
TZOFFSETFROM:-0600
TZOFFSETTO:-0500
TZNAME:CDT
DTSTART:20240310T080000
END:DAYLIGHT
BEGIN:STANDARD
TZOFFSETFROM:-0500
TZOFFSETTO:-0600
TZNAME:CST
DTSTART:20241103T070000
END:STANDARD
BEGIN:DAYLIGHT
TZOFFSETFROM:-0600
TZOFFSETTO:-0500
TZNAME:CDT
DTSTART:20250309T080000
END:DAYLIGHT
BEGIN:STANDARD
TZOFFSETFROM:-0500
TZOFFSETTO:-0600
TZNAME:CST
DTSTART:20251102T070000
END:STANDARD
END:VTIMEZONE
BEGIN:VEVENT
DTSTART;TZID=America/Chicago:20240518T100000
DTEND;TZID=America/Chicago:20240518T150000
DTSTAMP:20260421T152212
CREATED:20240430T130849Z
LAST-MODIFIED:20240430T130849Z
UID:5206-1716026400-1716044400@stcroixvalleymag.com
SUMMARY:Master Gardener Plant Sale
DESCRIPTION:Mark your calendars now for the annual Plant Sale and Garden Expo from 10 a.m. to 3 p.m. on Saturday\, May 18\, hosted by University of Minnesota Extension Washington County Master Gardener Volunteer program. \nHome gardeners can buy a wide variety of plants\, as well as nature and garden-themed crafts\, and get their gardening questions answered at the free Diagnostic Clinic. The event will be held inside Building A at the Washington County Fairgrounds\, located at Highway 5 and Manning Avenue in Lake Elmo. \nBring a wagon for shopping; cash\, checks and credit cards will be accepted.
URL:https://stcroixvalleymag.com/event/master-gardener-plant-sale/
LOCATION:Washington County Fairgrounds\, 12300 40th Street N.\, Lake Elmo\, MN\, 55042
CATEGORIES:Education,Home & Garden
ATTACH;FMTTYPE=image/jpeg:https://stcroixvalleymag.com/wp-content/uploads/2024/04/expo-logo-4-1.jpg
ORGANIZER;CN="Washington County Master Gardeners":MAILTO:wcmg@umn.edu
END:VEVENT
BEGIN:VEVENT
DTSTART;TZID=America/Chicago:20240504T100000
DTEND;TZID=America/Chicago:20240504T160000
DTSTAMP:20260421T152212
CREATED:20240307T184610Z
LAST-MODIFIED:20240307T184610Z
UID:4888-1714816800-1714838400@stcroixvalleymag.com
SUMMARY:Gammelgården Museum Open House
DESCRIPTION:From 10 a.m.–4 p.m. on May 4\, there are free self-guided tours of Gammelgården’s historic buildings\, hands-on activities\, an artists and crafters fair\, an art exhibit\, Living History Society of MN costumed interpreters and more. \nOpening Day celebrates Gammelgården Museum of Scandia’s focus in its 52nd year: Past times and Games of Early Immigrants. \nIn addition\, visitors of all ages can experience what life was like for immigrants and early settlers by packing a steamer trunk for America just like Swedish immigrants would have done in the 1800s\, make homemade butter\, weave on large looms\, “milk” a cow\, haul water with a yoke\, shuck corn\, lift real straw- and hay bales and write on slates as children did in one-room schoolhouses. \nPeople of all ages can do make-and-take activities as well as go on a Spring scavenger hunt. \nMany artists and crafters will have their work available for sale and some will be demonstrating their craft.
URL:https://stcroixvalleymag.com/event/gammelgarden-museum-open-house/
LOCATION:Gammelgården Museum of Scandia\, 20880 Olinda Trail N\, Scandia\, MN\, 55073
CATEGORIES:Education,For the Kids
ATTACH;FMTTYPE=image/jpeg:https://stcroixvalleymag.com/wp-content/uploads/2024/03/DSC0512-009-845x321-1.jpg
END:VEVENT
BEGIN:VEVENT
DTSTART;TZID=America/Chicago:20240427T090000
DTEND;TZID=America/Chicago:20240427T150000
DTSTAMP:20260421T152212
CREATED:20240223T165826Z
LAST-MODIFIED:20240223T165826Z
UID:4797-1714208400-1714230000@stcroixvalleymag.com
SUMMARY:Celebrating Your Wild Voice
DESCRIPTION:Join Belwin Conservancy’s naturalist Lynette Anderson and vocal coach/song leader extraordinaire Barbara McAfee for a day in the woods and prairies to explore your unique and wild voice. The day will include conversation\, playfully opening up your voice\, community singing\, gentle stretching\, mindful walking (or sitting) on Belwin’s trails\, and vocal improv games in the middle of the pine forest. No singing experience or talent required at all. Must be 16 and older. Bring your own lunch; Light snacks\, tea and hot chocolate provided. Led by Lynette Anderson and Barbara McAfee. \nWe hope you can join us for this enlivening and deepening day.
URL:https://stcroixvalleymag.com/event/celebrating-your-wild-voice/
LOCATION:Belwin Education Site\, Hilltop Classroom\, 1553 Stagecoach Trail S\, Afton\, MN\, 55001
CATEGORIES:Community,Education,Outdoors
ATTACH;FMTTYPE=image/jpeg:https://stcroixvalleymag.com/wp-content/uploads/2024/02/Web-Event-Template-3-scaled-1.jpg
ORGANIZER;CN="Belwin Conservancy":MAILTO:info@belwin.org
END:VEVENT
BEGIN:VEVENT
DTSTART;TZID=America/Chicago:20240427T073000
DTEND;TZID=America/Chicago:20240427T170000
DTSTAMP:20260421T152212
CREATED:20240321T165627Z
LAST-MODIFIED:20240321T165627Z
UID:4982-1714203000-1714237200@stcroixvalleymag.com
SUMMARY:EarthFest 2024
DESCRIPTION:Mark your calendars for a day of nature walks\, speakers\, live music and service projects. The 2024 EarthFest theme is “Why do we care about prairies?” and will highlight the almost 500 acres of restored prairie at Wild River State Park. \nApril 27\, 2024 is a free entrance day and the 41st annual celebration of spring at the park! All ages are welcome\, but this event is geared toward ages 8 and up. Pick and choose from activities or come to them all. Final activity locations will be posted here and at the park the day before the event. \n7:30-9 a.m. Bird Walk (Meet at Boat Launch Parking Lot) – Join Joe on a journey through a variety of habitats in search of our feathered friends. Compare prairie\, wetland and forest birds. Bring binoculars or borrow a pair of ours. \n9:30-10:30 a.m. Prairie Walk: What’s happening in our grasslands? – Take a stroll through some of Wild River’s 500 acres of prairie with Park Naturalist Sean Hoppes and Native Cultural Teacher Hope Flanagan. This walk will be an open discussion on prairie ecology and stewardship. \n10:45-11:30 a.m. Keynote Presentation – Hope Flanagan is the native cultural teacher at Dream of Wild Health. She is from the Tonawanda Band of Seneca and has a strong cultural relationship with plants. She teaches people about the importance of culture\, language and identity\, and shares her knowledge of Indigenous foods and medicines. \nNoon-1:30 p.m. Lunchtime Concert with AJ Spoff – AJ frequently entertains with a variety of country\, rock\, pop and original music. Bring your lunch and enjoy! \n1:30-3:30 p.m. Connect with Local Conservation Groups – Drop by for informal chats with an array of conservation organizations. \n2-2:30 p.m. The Bullsnake Program – Dave Crawford loves to talk about snakes. This former park naturalist will present what we’ve learned at Wild River from studying bullsnakes for the past 20 years. \n2:30-3 p.m. Bluebirds on the Prairie – Gloria Peterson has been monitoring bluebird activities at Wild River for years. She will share engaging stories and beautiful pictures of bluebirds. \n3-5 p.m. Prairie Stewardship Projects – Discover your own connection to the prairie and give something back through stewardship projects. There are several options for various ages and abilities. \nThis event is sponsored by the Friends of Wild River State Park.
URL:https://stcroixvalleymag.com/event/earthfest-2024/
LOCATION:Wild River State Park\, 39797 Park Trail\, Center City\, MN\, 55012
CATEGORIES:Education,For the Kids,Outdoors
ATTACH;FMTTYPE=image/jpeg:https://stcroixvalleymag.com/wp-content/uploads/2024/03/junior_park_naturalist.jpg
ORGANIZER;CN="Wild River State Park":MAILTO:wildriver.statepark@state.mn.us
END:VEVENT
BEGIN:VEVENT
DTSTART;TZID=America/Chicago:20240422T190000
DTEND;TZID=America/Chicago:20240422T203000
DTSTAMP:20260421T152212
CREATED:20240223T165554Z
LAST-MODIFIED:20240223T165554Z
UID:4794-1713812400-1713817800@stcroixvalleymag.com
SUMMARY:Frog Walk at Oxbow Trails
DESCRIPTION:This night of free outdoor activities features hikes through the snow guided by Belwin naturalists\, stargazing\, and s’mores around campfires. Enjoy an evening stroll around Belwin’s Oxbow Trails while listening for the spring calls of our native frogs (Spring Peepers\, Wood Frogs\, Chorus Frogs). Dress for the weather. This is a rain or shine event.
URL:https://stcroixvalleymag.com/event/frog-walk-at-oxbow-trails/
LOCATION:Oxbow Trails\, 2398 St. Croix Trail S.\, Afton\, MN\, 55001
CATEGORIES:Education,Outdoors
ATTACH;FMTTYPE=image/jpeg:https://stcroixvalleymag.com/wp-content/uploads/2024/02/Web-Event-Template-4-scaled-1.jpg
ORGANIZER;CN="Belwin Conservancy":MAILTO:info@belwin.org
END:VEVENT
BEGIN:VEVENT
DTSTART;TZID=America/Chicago:20240408T130000
DTEND;TZID=America/Chicago:20240408T150000
DTSTAMP:20260421T152212
CREATED:20240321T165855Z
LAST-MODIFIED:20240321T165855Z
UID:4986-1712581200-1712588400@stcroixvalleymag.com
SUMMARY:See the Solar Eclipse
DESCRIPTION:Don’t miss this rare opportunity to connect with our solar system. Look through a safe telescope and solar glasses to watch the moon pass in front of the sun. Wrap your head around what an eclipse really is as you ponder the wonders of the universe. \nThe eclipse starts at 12:50 p.m. and ends at 3:14 p.m. The maximum eclipse (about 80%) occurs at 2:03 p.m. Drop by this station at the Trail Center anytime between 1-3 p.m. Hope for no clouds!
URL:https://stcroixvalleymag.com/event/see-the-solar-eclipse/
LOCATION:Wild River State Park\, 39797 Park Trail\, Center City\, MN\, 55012
CATEGORIES:Education,Outdoors
ATTACH;FMTTYPE=image/jpeg:https://stcroixvalleymag.com/wp-content/uploads/2024/03/moon.jpg
ORGANIZER;CN="Wild River State Park":MAILTO:wildriver.statepark@state.mn.us
END:VEVENT
BEGIN:VEVENT
DTSTART;TZID=America/Chicago:20240204T100000
DTEND;TZID=America/Chicago:20240204T120000
DTSTAMP:20260421T152212
CREATED:20240110T173829Z
LAST-MODIFIED:20240110T173829Z
UID:4433-1707040800-1707048000@stcroixvalleymag.com
SUMMARY:Winter Wandering
DESCRIPTION:Join us for a morning of exploring the world of winter. We will look for signs of life and figure out how animals survive the cold. Dress in layers and come prepared to spend most of the time outside on the trail. \nRegistration is required. To register\, go to belwin.org/events.
URL:https://stcroixvalleymag.com/event/winter-wandering/
LOCATION:Belwin Conservancy\, 1553 Stagecoach Trail S.\, Afton\, MN\, 55001
CATEGORIES:Community,Education,Outdoors
ATTACH;FMTTYPE=image/jpeg:https://stcroixvalleymag.com/wp-content/uploads/2024/01/Web-Event-Template-2-scaled-1.jpg
ORGANIZER;CN="Belwin Conservancy":MAILTO:info@belwin.org
END:VEVENT
BEGIN:VEVENT
DTSTART;TZID=America/Chicago:20240203T170000
DTEND;TZID=America/Chicago:20240203T190000
DTSTAMP:20260421T152212
CREATED:20231211T185506Z
LAST-MODIFIED:20231211T185506Z
UID:4308-1706979600-1706986800@stcroixvalleymag.com
SUMMARY:Midwinter Family Fun
DESCRIPTION:From 5-7 p.m. on February 3\, Belwin Conservancy will host Midwinter Family Fun. This night of free outdoor activities features hikes through the snow guided by Belwin naturalists\, stargazing with Minnesota Astronomical Society and s’mores around several campfires. The event is free and will take place at the Hilltop Classroom at the Education Site. \nDon’t miss this chance to go stargazing with one of the biggest refractive telescopes in the state! The Joseph J. Casby Observatory will be open and volunteers from the Minnesota Astronomical Society will be there to help you see the stars. If you get cold\, warm drinks will be available indoors. \nGuided hikes will be available all evening. For families with young children\, you can join Parent\, Child\, and Family Educator\, Jenny Hanlon from Stillwater ECFE at 5:45 p.m. for a short hike\, exploration and songs specifically geared toward families with children 5 and under. Feel free to bring a sled or carrier for your child if they are likely to get tired from walking. We look forward to seeing you for a fun night out in nature. \nNo dogs allowed at this event.
URL:https://stcroixvalleymag.com/event/midwinter-family-fun/
LOCATION:Belwin Education Site\, Hilltop Classroom\, 1553 Stagecoach Trail S\, Afton\, MN\, 55001
CATEGORIES:Education,For the Kids,Outdoors
ATTACH;FMTTYPE=image/jpeg:https://stcroixvalleymag.com/wp-content/uploads/2023/12/Midwinter-Family-Fun-Web-scaled-1.jpg
ORGANIZER;CN="Belwin Conservancy":MAILTO:info@belwin.org
END:VEVENT
BEGIN:VEVENT
DTSTART;TZID=America/Chicago:20230910T130000
DTEND;TZID=America/Chicago:20230910T150000
DTSTAMP:20260421T152212
CREATED:20230821T143936Z
LAST-MODIFIED:20230821T143936Z
UID:3576-1694350800-1694358000@stcroixvalleymag.com
SUMMARY:River Valley Riders Open House
DESCRIPTION:We are hosting an open house from 1-3 p.m. on September 10t to share the mission of River Valley Riders with the community. Event highlights include a tour of the new facility\, demonstrations of therapeutic horseback riding\, meet and greet with one of RVR’s therapy horses\, light refreshments\, family-friendly games\, face painting and door prizes.
URL:https://stcroixvalleymag.com/event/river-valley-riders-open-house/
LOCATION:River Valley Riders\, 2007 Neal Ave. S.\, Afton\, MN\, 55001
CATEGORIES:Education
ATTACH;FMTTYPE=image/jpeg:https://stcroixvalleymag.com/wp-content/uploads/2023/08/2023_Open_House_Poster_for_WEB3-1.jpg
END:VEVENT
BEGIN:VEVENT
DTSTART;TZID=America/Chicago:20230521T100000
DTEND;TZID=America/Chicago:20230521T130000
DTSTAMP:20260421T152212
CREATED:20230512T155332Z
LAST-MODIFIED:20230512T155332Z
UID:2657-1684663200-1684674000@stcroixvalleymag.com
SUMMARY:Exclusive Octagon House Museum Experience
DESCRIPTION:Experience all the Octagon House Museum has to offer on this exclusive and behind the scenes tour. Learn about the trendy Octagon House architectural style\, the family origins and Hudson history. Discover why settlers came to Hudson\, why Hudson became a burgeoning city center on the edge of civilization. Explore nooks and crannies not included not included on traditional tours. Access historical society collections. Gain an understanding of how the Octagon House transitioned from a self sustaining farmstead to a property prized for its decorative gardens and finally a recognized national historic site \nSpots are limited and tickets must be pre-purchased online.
URL:https://stcroixvalleymag.com/event/exclusive-octagon-house-museum-experience/
LOCATION:Octagon House Museum\, 1004 3rd St.\, Hudson\, WI\, 54016
CATEGORIES:Community,Education
ATTACH;FMTTYPE=image/png:https://stcroixvalleymag.com/wp-content/uploads/2023/05/f0111d_5de1ec4ec157447fa3ea898b04bdf23dmv2.png
END:VEVENT
BEGIN:VEVENT
DTSTART;TZID=America/Chicago:20230318T180000
DTEND;TZID=America/Chicago:20230318T210000
DTSTAMP:20260421T152212
CREATED:20230227T193037Z
LAST-MODIFIED:20230227T193037Z
UID:1715-1679162400-1679173200@stcroixvalleymag.com
SUMMARY:Women Walking
DESCRIPTION:Come and help us celebrate the seasonal changes in the natural world. \nWomen Walking – March 18\nMARCH 18\, 2023\n6:00 PM – 9:00 PM\nHilltop Classroom\, 1553 Stagecoach Trail S.\, Afton\nCost: $20 \nCome and help us celebrate the seasonal changes in the natural world. Vernal Equinox\, Summer Solstice\, Autumnal Equinox\, Winter Solstice\, each brings us to a new season\, a new place in our annual trip around the sun. We will gather together indoors to share easy\, yogic centering exercises and a brief conversation about our theme. We will then move out to the woods and prairies for walking meditations and experiences in the natural world. We will end our time together with light refreshments around the fire. \nLed by Lynette Anderson. Wear comfortable layers and be prepared for any weather. Open to women over the age of 16. Max of 20 attendees. To RSVP\, visit belwin.org/events.
URL:https://stcroixvalleymag.com/event/women-walking/
LOCATION:Belwin Conservancy\, 1553 Stagecoach Trail S.\, Afton\, MN\, 55001
CATEGORIES:Education,Outdoors
ATTACH;FMTTYPE=image/jpeg:https://stcroixvalleymag.com/wp-content/uploads/2023/02/Untitled-1_1.jpg
END:VEVENT
END:VCALENDAR