BEGIN:VCALENDAR
VERSION:2.0
PRODID:-//St. Croix Valley Magazine - ECPv6.15.20//NONSGML v1.0//EN
CALSCALE:GREGORIAN
METHOD:PUBLISH
X-WR-CALNAME:St. Croix Valley Magazine
X-ORIGINAL-URL:https://stcroixvalleymag.com
X-WR-CALDESC:Events for St. Croix Valley Magazine
REFRESH-INTERVAL;VALUE=DURATION:PT1H
X-Robots-Tag:noindex
X-PUBLISHED-TTL:PT1H
BEGIN:VTIMEZONE
TZID:America/Chicago
BEGIN:DAYLIGHT
TZOFFSETFROM:-0600
TZOFFSETTO:-0500
TZNAME:CDT
DTSTART:20250309T080000
END:DAYLIGHT
BEGIN:STANDARD
TZOFFSETFROM:-0500
TZOFFSETTO:-0600
TZNAME:CST
DTSTART:20251102T070000
END:STANDARD
BEGIN:DAYLIGHT
TZOFFSETFROM:-0600
TZOFFSETTO:-0500
TZNAME:CDT
DTSTART:20260308T080000
END:DAYLIGHT
BEGIN:STANDARD
TZOFFSETFROM:-0500
TZOFFSETTO:-0600
TZNAME:CST
DTSTART:20261101T070000
END:STANDARD
BEGIN:DAYLIGHT
TZOFFSETFROM:-0600
TZOFFSETTO:-0500
TZNAME:CDT
DTSTART:20270314T080000
END:DAYLIGHT
BEGIN:STANDARD
TZOFFSETFROM:-0500
TZOFFSETTO:-0600
TZNAME:CST
DTSTART:20271107T070000
END:STANDARD
END:VTIMEZONE
BEGIN:VEVENT
DTSTART;TZID=America/Chicago:20260426T110000
DTEND;TZID=America/Chicago:20260426T140000
DTSTAMP:20260423T034317
CREATED:20260325T202737Z
LAST-MODIFIED:20260325T202737Z
UID:11047-1777201200-1777212000@stcroixvalleymag.com
SUMMARY:Valley Eco Fair
DESCRIPTION:This fourth annual event celebrates connection to the Earth\, creativity and sustainability\, from 11 a.m.–2 p.m. at Pioneer Park.
URL:https://stcroixvalleymag.com/event/valley-eco-fair/
LOCATION:Pioneer Park\, 515 2nd St. N.\, Stillwater\, MN\, 55082
CATEGORIES:Education,Outdoors
ATTACH;FMTTYPE=image/png:https://stcroixvalleymag.com/wp-content/uploads/2026/03/5f2519_3303d446fee1414483ae5f6e62d04a7cmv2.png
ORGANIZER;CN="Sustainable Stillwater MN":MAILTO:info@sustainablestillwatermn.org
END:VEVENT
BEGIN:VEVENT
DTSTART;TZID=America/Chicago:20260502T110000
DTEND;TZID=America/Chicago:20260502T160000
DTSTAMP:20260423T034317
CREATED:20260109T202155Z
LAST-MODIFIED:20260109T202155Z
UID:10635-1777719600-1777737600@stcroixvalleymag.com
SUMMARY:Wild Rivers Fest
DESCRIPTION:Join us from 11 a.m.–4 p.m. on May 2 from at 45th Parallel Distillery in New Richmond\, Wisconsin to celebrate the return of open water season with fellow outdoor adventure enthusiasts. \nLearn about the best places to explore along the St. Croix and Namekagon Rivers and connect with local experts in fishing\, kayaking\, canoeing\, camping and more. It’s your one-stop spot for inspiration and resources to make the most of the upcoming summer season outdoors.
URL:https://stcroixvalleymag.com/event/wild-rivers-fest/
LOCATION:45th Parallel Distillery\, 1490 Madison Ave.\, New Richmond\, WI\, 54017
CATEGORIES:Education,Outdoors
ATTACH;FMTTYPE=image/png:https://stcroixvalleymag.com/wp-content/uploads/2026/01/WILD-RIVERS-FEST-PLACEHOLDER-2048x1024-1.png
END:VEVENT
BEGIN:VEVENT
DTSTART;TZID=America/Chicago:20260516T100000
DTEND;TZID=America/Chicago:20260516T140000
DTSTAMP:20260423T034317
CREATED:20240223T172241Z
LAST-MODIFIED:20260109T201322Z
UID:4799-1778925600-1778940000@stcroixvalleymag.com
SUMMARY:Belwin Bison Festival
DESCRIPTION:On May 16\, Belwin will host its annual Bison Festival\, celebrating the release of the 2026 NorthStar Bison herd onto the Bison Prairie. This beloved event includes food trucks\, live music\, eco-art\, a 5K “Run with the Bison” Fun Run and more.
URL:https://stcroixvalleymag.com/event/belwin-bison-festival/
LOCATION:Lucy Winton Bell Athletic Fields\, 15601 Hudson Rd. N.\, Afton\, MN\, 55001
CATEGORIES:Community,Education,Outdoors
ATTACH;FMTTYPE=image/jpeg:https://stcroixvalleymag.com/wp-content/uploads/2024/02/IMG_8790Bison-Fest-2022-credit-Don-Wendel.jpg
ORGANIZER;CN="Belwin Conservancy":MAILTO:info@belwin.org
END:VEVENT
END:VCALENDAR